BEGIN:VCALENDAR
VERSION:2.0
PRODID:-//That Hypnotist Guy Comedy Entertainment - ECPv6.15.20//NONSGML v1.0//EN
CALSCALE:GREGORIAN
METHOD:PUBLISH
X-WR-CALNAME:That Hypnotist Guy Comedy Entertainment
X-ORIGINAL-URL:https://www.thathypnotistguy.com
X-WR-CALDESC:Events for That Hypnotist Guy Comedy Entertainment
REFRESH-INTERVAL;VALUE=DURATION:PT1H
X-Robots-Tag:noindex
X-PUBLISHED-TTL:PT1H
BEGIN:VTIMEZONE
TZID:America/Toronto
BEGIN:DAYLIGHT
TZOFFSETFROM:-0500
TZOFFSETTO:-0400
TZNAME:EDT
DTSTART:20240310T070000
END:DAYLIGHT
BEGIN:STANDARD
TZOFFSETFROM:-0400
TZOFFSETTO:-0500
TZNAME:EST
DTSTART:20241103T060000
END:STANDARD
BEGIN:DAYLIGHT
TZOFFSETFROM:-0500
TZOFFSETTO:-0400
TZNAME:EDT
DTSTART:20250309T070000
END:DAYLIGHT
BEGIN:STANDARD
TZOFFSETFROM:-0400
TZOFFSETTO:-0500
TZNAME:EST
DTSTART:20251102T060000
END:STANDARD
BEGIN:DAYLIGHT
TZOFFSETFROM:-0500
TZOFFSETTO:-0400
TZNAME:EDT
DTSTART:20260308T070000
END:DAYLIGHT
BEGIN:STANDARD
TZOFFSETFROM:-0400
TZOFFSETTO:-0500
TZNAME:EST
DTSTART:20261101T060000
END:STANDARD
BEGIN:DAYLIGHT
TZOFFSETFROM:-0500
TZOFFSETTO:-0400
TZNAME:EDT
DTSTART:20270314T070000
END:DAYLIGHT
BEGIN:STANDARD
TZOFFSETFROM:-0400
TZOFFSETTO:-0500
TZNAME:EST
DTSTART:20271107T060000
END:STANDARD
END:VTIMEZONE
BEGIN:VEVENT
DTSTART;TZID=America/Toronto:20260206T190000
DTEND;TZID=America/Toronto:20260206T203000
DTSTAMP:20260423T110936
CREATED:20260113T183113Z
LAST-MODIFIED:20260123T130348Z
UID:2645-1770404400-1770409800@www.thathypnotistguy.com
SUMMARY:Belleville\, ON
DESCRIPTION:The Ultimate in Audience Participation – featuring YOU and YOUR friends as the stars of the show! Experience live comedy entertainment at its best. \n\n\n\nIn support of the Belleville Ravens U14 Girls Volleyball Team!!  Go Ravens! \n\n\n\nCanada’s Award Winning Comedy Hypnotist\, That Hypnotist Guy\, brings his signature clean comedy to Belleville for ONE NIGHT ONLY! \n\n\n\n🎟️ Tickets: $25 ! \n\n\n\nAn Unforgettable Evening of Entertainment\n\n\n\n✔️ 15-20 participants invited onstage to take part in hilarious skits showcasing their creativity.✔️ A journey to a warm\, relaxing beach.✔️ Speed painters creating masterpieces on invisible canvases.✔️ A surprising twist—who will fall in love with a giant red monkey? \n\n\n\nThis is good\, clean fun—nothing inappropriate or embarrassing—so why not experience it for yourself? You may even become the star of the show! \n\n\n\n✨ “Good clean fun. Grandma-friendly laughs! A giant red monkey. Wait…what?” \n\n\n\nGrab your friends and enjoy a night of laughter!! \n\n\n\n🚨 LIMITED SEATING AVAILABLE! Get your tickets today!
URL:https://www.thathypnotistguy.com/event/belleville-on-2/
LOCATION:Centennial Secondary School\, 160 Palmer Rd\, Belleville\, ON\, Canada
CATEGORIES:Hypnosis Shows
ATTACH;FMTTYPE=image/jpeg:https://www.thathypnotistguy.com/wp-content/uploads/2026/01/Ravens1-scaled.webp
END:VEVENT
BEGIN:VEVENT
DTSTART;TZID=America/Toronto:20250702T190000
DTEND;TZID=America/Toronto:20250702T210000
DTSTAMP:20260423T110936
CREATED:20250505T172028Z
LAST-MODIFIED:20250505T173848Z
UID:2539-1751482800-1751490000@www.thathypnotistguy.com
SUMMARY:Digby Pines Resort\, Digby\, NS
DESCRIPTION:ONTARIO’S Favourite Hypnotist is coming to Nova Scotia!!\n\n\n\n\n\n\n\nOntario’s only FULL-TIME Professional Comedy Hypnotist\, That Hypnotist Guy\, brings his signature clean comedy to NOVA SCOTIA for ONE NIGHT ONLY during his “Happy Canada D’eh? Week Tour” of the East Coast! \n\n\n\n🎟️ Tickets: $25 for regular seating\, and $35 for VIP “Closest to the stage+!!” \n\n\n\n+SPECIAL VIP TICKET OFFER Includes a 15% Discount at Churchill’s Restaurant for July 2nd ONLY!!  Come and have DINNER BEFORE the show!!  Just show your VIP ticket for the show!! (Limit 1 discount per bill.) \n\n\n\nAn Unforgettable Evening of Entertainment\n\n\n\n✔️ 15-20 participants invited onstage to take part in hilarious skits showcasing their creativity.✔️ A journey to a warm\, relaxing beach.✔️ Speed painters creating masterpieces on invisible canvases.✔️ A surprising twist—who will be captivated by a giant red monkey? \n\n\n\nThis is good\, clean fun—nothing inappropriate or embarrassing—so why not experience it for yourself? You may even become the star of the show! \n\n\n\n✨ “Good clean fun. Grandma-friendly laughs! A giant red monkey. Wait…what?” \n\n\n\nGather your friends and enjoy a night of laughter at Digby Pines Resort!! \n\n\n\n🚨 LIMITED SEATING AVAILABLE! Get your tickets today!
URL:https://www.thathypnotistguy.com/event/digby-pines-resort-ns/
LOCATION:ON
CATEGORIES:Hypnosis Shows
ATTACH;FMTTYPE=image/jpeg:https://www.thathypnotistguy.com/wp-content/uploads/2025/05/Digby-Pines.webp
END:VEVENT
BEGIN:VEVENT
DTSTART;TZID=America/Toronto:20250620T173000
DTEND;TZID=America/Toronto:20250620T210000
DTSTAMP:20260423T110936
CREATED:20250303T152506Z
LAST-MODIFIED:20250520T202447Z
UID:2490-1750440600-1750453200@www.thathypnotistguy.com
SUMMARY:Quinte West (Trenton)\, ON
DESCRIPTION:The Ultimate in Audience Participation – featuring YOU and YOUR friends as the stars of the show! Experience live comedy entertainment at its best. \n\n\n\nOntario’s only FULL-TIME Professional Comedy Hypnotist\, That Hypnotist Guy\, brings his signature clean comedy to Trenton for ONE NIGHT ONLY! \n\n\n\n🎟️ Tickets: $40 and includes a Spaghetti dinner! \n\n\n\nAn Unforgettable Evening of Entertainment\n\n\n\n✔️ 15-20 participants invited onstage to take part in hilarious skits showcasing their creativity.✔️ A journey to a warm\, relaxing beach.✔️ Speed painters creating masterpieces on invisible canvases.✔️ A surprising twist—who will be captivated by a giant red monkey? \n\n\n\nThis is good\, clean fun—nothing inappropriate or embarrassing—so why not experience it for yourself? You may even become the star of the show! \n\n\n\n✨ “Good clean fun. Grandma-friendly laughs! A giant red monkey. Wait…what?” \n\n\n\nGather your friends and enjoy a night of laughter at the Trenton Legion!! \n\n\n\n🚨 LIMITED SEATING AVAILABLE! Get your tickets today!
URL:https://www.thathypnotistguy.com/event/quinte-west-trenton-on/
LOCATION:Trenton Legion\, Royal Canadian Legion Branch 110\, Trenton\, ON\, K8V 3S7\, Canada
CATEGORIES:Hypnosis Shows
ATTACH;FMTTYPE=image/jpeg:https://www.thathypnotistguy.com/wp-content/uploads/2025/03/TrentonLegion.webp
END:VEVENT
BEGIN:VEVENT
DTSTART;TZID=America/Toronto:20250529T200000
DTEND;TZID=America/Toronto:20250529T213000
DTSTAMP:20260423T110936
CREATED:20250227T215554Z
LAST-MODIFIED:20250227T215556Z
UID:2475-1748548800-1748554200@www.thathypnotistguy.com
SUMMARY:Newmarket\, ON Old Town Hall Theatre
DESCRIPTION:Purchase TICKETS ->
URL:https://www.thathypnotistguy.com/event/newmarket-on-old-town-hall-theatre/
LOCATION:Old Town Hall\, 460 Botsford St\, Newmarket\, L3Y 1T1\, Canada
CATEGORIES:Hypnosis Shows
ATTACH;FMTTYPE=image/jpeg:https://www.thathypnotistguy.com/wp-content/uploads/2025/02/NewMarket.webp
END:VEVENT
BEGIN:VEVENT
DTSTART;TZID=America/Toronto:20250413T133000
DTEND;TZID=America/Toronto:20250413T150000
DTSTAMP:20260423T110936
CREATED:20250226T205719Z
LAST-MODIFIED:20250227T200959Z
UID:2432-1744551000-1744556400@www.thathypnotistguy.com
SUMMARY:Belleville\, ON
DESCRIPTION:🎭 YOU’RE THE WORLD’S GREATEST! 🎭\n\n\n\n✨ An Experimental Hypnotist Comedy Show by Richard Cole ✨ \n\n\n\n🎉 Step into the Spotlight! 🎉Join award-winning comedy hypnotist Richard Cole for his brand-new experimental show\, “You’re the World’s Greatest”! This isn’t just a show—it’s an experience where YOU take center stage. Featuring new skits\, new music\, and endless laughs\, it’s a hilarious and unforgettable journey where volunteers become the stars in one-of-a-kind routines.🌟 What to Expect:✅ New Hypnosis\, NEW Skits\, MORE FUN!!✅ Audience interaction where YOU are the STAR of the SHOW!✅ Grandma-friendly fun for all!✅ Immersive video and audio elevates the show to a new level !✨ Join us on stage or cheer from the crowd. This is a show you don’t want to miss! \n\n\n\nCome early and enjoy the city’s best BBQ!!🎟️ Tickets: Just $10!👥 Bring your friends and family— It’s an event they’ll talk about for years.📢 Seats are limited\, so grab your tickets now and be part of something extraordinary!👉 See you Sunday\, April 13th\, at Smokin’ 116 Bistro in Belleville for an afternoon of unforgettable fun! 👈
URL:https://www.thathypnotistguy.com/event/belleville-on/
LOCATION:Smokin’ 116 Bistro\, 116 Pinnacle Street\, Belleville\, ON\, K8N 3A4\, Canada
CATEGORIES:Hypnosis Shows
ATTACH;FMTTYPE=image/jpeg:https://www.thathypnotistguy.com/wp-content/uploads/2025/02/Smokin-April-13th.webp
END:VEVENT
BEGIN:VEVENT
DTSTART;TZID=America/Toronto:20250321T180000
DTEND;TZID=America/Toronto:20250321T220000
DTSTAMP:20260423T110936
CREATED:20250227T195902Z
LAST-MODIFIED:20250306T203618Z
UID:2462-1742580000-1742594400@www.thathypnotistguy.com
SUMMARY:Brantford\,  ON
DESCRIPTION:The Ultimate in Audience Participation featuring YOU and YOUR friends as the stars of the show. Live comedy entertainment at it’s best! Get Hypnotized Brantford!! That Hypnotist Guy! ONE NIGHT ONLY—and it includes a delicious buffet dinner! \n\n\n\n🎟️ Tickets: $60 + tax per person – Includes both the show AND buffet! \n\n\n\n\n\n\n\n\n\n\n\nAn Unforgettable Evening of Entertainment✔️ 15-20 participants invited onstage to take part in hilarious skits showcasing their creativity.✔️ A journey to a warm\, relaxing beach.✔️ Speed painters creating masterpieces on invisible canvases.✔️ A surprising twist—who will be captivated by a giant red monkey? \n\n\n\n✨ “Good clean fun. Grandma-friendly laughs! A giant red monkey. Wait…what?” \n\n\n\nGrab your friends and enjoy a night of food and laughter. \n\n\n\n🚨 LIMITED SEATING AVAILABLE! Get your tickets today!
URL:https://www.thathypnotistguy.com/event/brantford-best-western/
LOCATION:Best Western Brantford Hotel & Conference Centre\, 19 Holiday Dr\, Brantford\, ON\, N3R 7J4\, Canada
CATEGORIES:Hypnosis Shows
ATTACH;FMTTYPE=image/jpeg:https://www.thathypnotistguy.com/wp-content/uploads/2025/02/BestWestern.webp
END:VEVENT
END:VCALENDAR